BEGIN:VCALENDAR
VERSION:2.0
PRODID:-//Spencer&#039;s Produce, Lawn, &amp; Garden Centers, Inc - ECPv6.1.2.2//NONSGML v1.0//EN
CALSCALE:GREGORIAN
METHOD:PUBLISH
X-WR-CALNAME:Spencer&#039;s Produce, Lawn, &amp; Garden Centers, Inc
X-ORIGINAL-URL:https://spencersgardens.com
X-WR-CALDESC:Events for Spencer&#039;s Produce, Lawn, &amp; Garden Centers, Inc
REFRESH-INTERVAL;VALUE=DURATION:PT1H
X-Robots-Tag:noindex
X-PUBLISHED-TTL:PT1H
BEGIN:VTIMEZONE
TZID:America/Denver
BEGIN:DAYLIGHT
TZOFFSETFROM:-0700
TZOFFSETTO:-0600
TZNAME:MDT
DTSTART:20230312T090000
END:DAYLIGHT
BEGIN:STANDARD
TZOFFSETFROM:-0600
TZOFFSETTO:-0700
TZNAME:MST
DTSTART:20231105T080000
END:STANDARD
END:VTIMEZONE
BEGIN:VEVENT
DTSTART;VALUE=DATE:20230729
DTEND;VALUE=DATE:20230821
DTSTAMP:20260425T202857
CREATED:20230729T162847Z
LAST-MODIFIED:20230816T164114Z
UID:10000016-1690588800-1692575999@spencersgardens.com
SUMMARY:Pueblo & Olathe Corn
DESCRIPTION:Check with us often\, Colorado’s delicious corn sells out quickly!
URL:https://spencersgardens.com/event/pueblo-olathe-corn/
ATTACH;FMTTYPE=image/jpeg:https://spencersgardens.com/wp-content/uploads/2023/07/IMG_4090-scaled.jpeg
END:VEVENT
BEGIN:VEVENT
DTSTART;VALUE=DATE:20230804
DTEND;VALUE=DATE:20230812
DTSTAMP:20260425T202857
CREATED:20230804T234800Z
LAST-MODIFIED:20230804T234800Z
UID:10000024-1691107200-1691798399@spencersgardens.com
SUMMARY:Palisade Peaches
DESCRIPTION:From the Western Slope\, it’s one of our favorite summer staples\, the Colorado peaches. The cool nights and high altitude create peaches that are sweet\, juicy\, and flavorful. Slice and eat\, get a bushel to can\, or use in baked recipes like cobblers and pies.
URL:https://spencersgardens.com/event/palisade-peaches/
ATTACH;FMTTYPE=image/jpeg:https://spencersgardens.com/wp-content/uploads/2017/08/20604399_10159024576585543_584345602558912847_n-e1566103337446.jpg
END:VEVENT
END:VCALENDAR